BEGIN:VCALENDAR
VERSION:2.0
PRODID:-//Mayhem Music Magazine - ECPv6.15.18//NONSGML v1.0//EN
CALSCALE:GREGORIAN
METHOD:PUBLISH
X-ORIGINAL-URL:https://mayhemmusicmagazine.com
X-WR-CALDESC:Events for Mayhem Music Magazine
REFRESH-INTERVAL;VALUE=DURATION:PT1H
X-Robots-Tag:noindex
X-PUBLISHED-TTL:PT1H
BEGIN:VTIMEZONE
TZID:America/Los_Angeles
BEGIN:DAYLIGHT
TZOFFSETFROM:-0800
TZOFFSETTO:-0700
TZNAME:PDT
DTSTART:20230312T100000
END:DAYLIGHT
BEGIN:STANDARD
TZOFFSETFROM:-0700
TZOFFSETTO:-0800
TZNAME:PST
DTSTART:20231105T090000
END:STANDARD
BEGIN:DAYLIGHT
TZOFFSETFROM:-0800
TZOFFSETTO:-0700
TZNAME:PDT
DTSTART:20240310T100000
END:DAYLIGHT
BEGIN:STANDARD
TZOFFSETFROM:-0700
TZOFFSETTO:-0800
TZNAME:PST
DTSTART:20241103T090000
END:STANDARD
BEGIN:DAYLIGHT
TZOFFSETFROM:-0800
TZOFFSETTO:-0700
TZNAME:PDT
DTSTART:20250309T100000
END:DAYLIGHT
BEGIN:STANDARD
TZOFFSETFROM:-0700
TZOFFSETTO:-0800
TZNAME:PST
DTSTART:20251102T090000
END:STANDARD
END:VTIMEZONE
BEGIN:VEVENT
DTSTART;VALUE=DATE:20241030
DTEND;VALUE=DATE:20241031
DTSTAMP:20260420T105813
CREATED:20241015T204656Z
LAST-MODIFIED:20241015T204656Z
UID:16379-1730246400-1730332799@mayhemmusicmagazine.com
SUMMARY:Dirty Honey - Ace of Spades - Sacramento
DESCRIPTION:Share This PageFacebookTwitterPinterestTumblrLinkedinEmailShare This PageFacebookTwitterPinterestTumblrLinkedinEmail
URL:https://mayhemmusicmagazine.com/event/dirty-honey-ace-of-spades-sacramento-2/
LOCATION:Ace of Spades\, Sacramento\, Ca
END:VEVENT
END:VCALENDAR