BEGIN:VCALENDAR
VERSION:2.0
PRODID:-//Mayhem Music Magazine - ECPv6.15.18//NONSGML v1.0//EN
CALSCALE:GREGORIAN
METHOD:PUBLISH
X-WR-CALNAME:Mayhem Music Magazine
X-ORIGINAL-URL:https://mayhemmusicmagazine.com
X-WR-CALDESC:Events for Mayhem Music Magazine
REFRESH-INTERVAL;VALUE=DURATION:PT1H
X-Robots-Tag:noindex
X-PUBLISHED-TTL:PT1H
BEGIN:VTIMEZONE
TZID:America/Los_Angeles
BEGIN:DAYLIGHT
TZOFFSETFROM:-0800
TZOFFSETTO:-0700
TZNAME:PDT
DTSTART:20230312T100000
END:DAYLIGHT
BEGIN:STANDARD
TZOFFSETFROM:-0700
TZOFFSETTO:-0800
TZNAME:PST
DTSTART:20231105T090000
END:STANDARD
BEGIN:DAYLIGHT
TZOFFSETFROM:-0800
TZOFFSETTO:-0700
TZNAME:PDT
DTSTART:20240310T100000
END:DAYLIGHT
BEGIN:STANDARD
TZOFFSETFROM:-0700
TZOFFSETTO:-0800
TZNAME:PST
DTSTART:20241103T090000
END:STANDARD
BEGIN:DAYLIGHT
TZOFFSETFROM:-0800
TZOFFSETTO:-0700
TZNAME:PDT
DTSTART:20250309T100000
END:DAYLIGHT
BEGIN:STANDARD
TZOFFSETFROM:-0700
TZOFFSETTO:-0800
TZNAME:PST
DTSTART:20251102T090000
END:STANDARD
END:VTIMEZONE
BEGIN:VEVENT
DTSTART;VALUE=DATE:20240803
DTEND;VALUE=DATE:20240804
DTSTAMP:20260420T105651
CREATED:20240702T063755Z
LAST-MODIFIED:20240702T063755Z
UID:15784-1722643200-1722729599@mayhemmusicmagazine.com
SUMMARY:Willie Nelson / Bob Dylan / John Mellencamp / Brittney Spencer - Shoreline Amphitheatre - Mountain View
DESCRIPTION:Share This PageFacebookTwitterPinterestTumblrLinkedinEmailShare This PageFacebookTwitterPinterestTumblrLinkedinEmail
URL:https://mayhemmusicmagazine.com/event/willie-nelson-bob-dylan-john-mellencamp-brittney-spencer-shoreline-amphitheatre-mountain-view/
LOCATION:Shoreline Amphitheatre\, Mountain View\, United States
END:VEVENT
BEGIN:VEVENT
DTSTART;VALUE=DATE:20240804
DTEND;VALUE=DATE:20240805
DTSTAMP:20260420T105651
CREATED:20240702T064014Z
LAST-MODIFIED:20240702T064014Z
UID:15786-1722729600-1722815999@mayhemmusicmagazine.com
SUMMARY:Willie Nelson / Bob Dylan / John Mellencamp / Brittney Spencer - Toyota Amphitheatre - Wheatland
DESCRIPTION:Share This PageFacebookTwitterPinterestTumblrLinkedinEmailShare This PageFacebookTwitterPinterestTumblrLinkedinEmail
URL:https://mayhemmusicmagazine.com/event/willie-nelson-bob-dylan-john-mellencamp-brittney-spencer-toyota-amphitheatre-wheatland/
LOCATION:Toyota Amphitheatre
END:VEVENT
BEGIN:VEVENT
DTSTART;VALUE=DATE:20240807
DTEND;VALUE=DATE:20240808
DTSTAMP:20260420T105651
CREATED:20240702T064145Z
LAST-MODIFIED:20240702T064145Z
UID:15788-1722988800-1723075199@mayhemmusicmagazine.com
SUMMARY:Alanis Morissette / Joan Jett & The Blackhearts - Shoreline Amphitheatre - Mountain View
DESCRIPTION:Share This PageFacebookTwitterPinterestTumblrLinkedinEmailShare This PageFacebookTwitterPinterestTumblrLinkedinEmail
URL:https://mayhemmusicmagazine.com/event/alanis-morissette-joan-jett-the-blackhearts-shoreline-amphitheatre-mountain-view/
LOCATION:Shoreline Amphitheatre\, Mountain View\, United States
END:VEVENT
BEGIN:VEVENT
DTSTART;VALUE=DATE:20240810
DTEND;VALUE=DATE:20240811
DTSTAMP:20260420T105651
CREATED:20240702T064342Z
LAST-MODIFIED:20240702T064342Z
UID:15790-1723248000-1723334399@mayhemmusicmagazine.com
SUMMARY:Megadeth / Mudvayne - Toyota Pavilion - Concord
DESCRIPTION:Share This PageFacebookTwitterPinterestTumblrLinkedinEmailShare This PageFacebookTwitterPinterestTumblrLinkedinEmail
URL:https://mayhemmusicmagazine.com/event/megadeth-mudvayne-toyota-pavilion-concord/
LOCATION:Toyota Pavilion
END:VEVENT
BEGIN:VEVENT
DTSTART;VALUE=DATE:20240811
DTEND;VALUE=DATE:20240812
DTSTAMP:20260420T105651
CREATED:20240529T221323Z
LAST-MODIFIED:20240529T221323Z
UID:15639-1723334400-1723420799@mayhemmusicmagazine.com
SUMMARY:Night Ranger - Hard Rock Live - Sacramento
DESCRIPTION:Share This PageFacebookTwitterPinterestTumblrLinkedinEmailShare This PageFacebookTwitterPinterestTumblrLinkedinEmail
URL:https://mayhemmusicmagazine.com/event/night-ranger-hard-rock-live-sacramento/
LOCATION:Hard Rock Live\, Sacramento
END:VEVENT
BEGIN:VEVENT
DTSTART;VALUE=DATE:20240813
DTEND;VALUE=DATE:20240814
DTSTAMP:20260420T105651
CREATED:20240318T180129Z
LAST-MODIFIED:20240318T180129Z
UID:15475-1723507200-1723593599@mayhemmusicmagazine.com
SUMMARY:Foo Fighters - Toyota Pavilion - Concord
DESCRIPTION:Share This PageFacebookTwitterPinterestTumblrLinkedinEmailShare This PageFacebookTwitterPinterestTumblrLinkedinEmail
URL:https://mayhemmusicmagazine.com/event/foo-fighters-toyota-pavilion-concord/
LOCATION:Toyota Pavilion
END:VEVENT
BEGIN:VEVENT
DTSTART;VALUE=DATE:20240814
DTEND;VALUE=DATE:20240815
DTSTAMP:20260420T105651
CREATED:20240702T064644Z
LAST-MODIFIED:20240702T064644Z
UID:15792-1723593600-1723679999@mayhemmusicmagazine.com
SUMMARY:The Pretenders - Hard Rock Live - Wheatland
DESCRIPTION:Share This PageFacebookTwitterPinterestTumblrLinkedinEmailShare This PageFacebookTwitterPinterestTumblrLinkedinEmail
URL:https://mayhemmusicmagazine.com/event/the-pretenders-hard-rock-live-wheatland/
LOCATION:Hard Rock Live\, Sacramento
END:VEVENT
BEGIN:VEVENT
DTSTART;VALUE=DATE:20240816
DTEND;VALUE=DATE:20240817
DTSTAMP:20260420T105651
CREATED:20240529T220422Z
LAST-MODIFIED:20240529T220422Z
UID:15625-1723766400-1723852799@mayhemmusicmagazine.com
SUMMARY:Stone Temple Pilots - Toyota Pavilion - Concord
DESCRIPTION:Share This PageFacebookTwitterPinterestTumblrLinkedinEmailShare This PageFacebookTwitterPinterestTumblrLinkedinEmail
URL:https://mayhemmusicmagazine.com/event/stone-temple-pilots-toyota-pavilion-concord/
LOCATION:Toyota Pavilion
END:VEVENT
BEGIN:VEVENT
DTSTART;VALUE=DATE:20240816
DTEND;VALUE=DATE:20240817
DTSTAMP:20260420T105651
CREATED:20240529T220637Z
LAST-MODIFIED:20240529T220637Z
UID:15629-1723766400-1723852799@mayhemmusicmagazine.com
SUMMARY:Sammy Hagar - Toyota Amphitheatre - Wheatland
DESCRIPTION:Share This PageFacebookTwitterPinterestTumblrLinkedinEmailShare This PageFacebookTwitterPinterestTumblrLinkedinEmail
URL:https://mayhemmusicmagazine.com/event/sammy-hagar-toyota-amphitheatre-wheatland/
LOCATION:TN
END:VEVENT
BEGIN:VEVENT
DTSTART;VALUE=DATE:20240817
DTEND;VALUE=DATE:20240818
DTSTAMP:20260420T105651
CREATED:20240529T220728Z
LAST-MODIFIED:20240529T220728Z
UID:15631-1723852800-1723939199@mayhemmusicmagazine.com
SUMMARY:Sammy Hagar - Toyota Pavilion - Concord
DESCRIPTION:Share This PageFacebookTwitterPinterestTumblrLinkedinEmailShare This PageFacebookTwitterPinterestTumblrLinkedinEmail
URL:https://mayhemmusicmagazine.com/event/sammy-hagar-toyota-pavilion-concord/
LOCATION:TN
END:VEVENT
BEGIN:VEVENT
DTSTART;VALUE=DATE:20240823
DTEND;VALUE=DATE:20240824
DTSTAMP:20260420T105651
CREATED:20240702T064811Z
LAST-MODIFIED:20240702T064811Z
UID:15794-1724371200-1724457599@mayhemmusicmagazine.com
SUMMARY:Limp Bizkit - Toyota Pavilion - Concord
DESCRIPTION:Share This PageFacebookTwitterPinterestTumblrLinkedinEmailShare This PageFacebookTwitterPinterestTumblrLinkedinEmail
URL:https://mayhemmusicmagazine.com/event/limp-bizkit-toyota-pavilion-concord/
LOCATION:Toyota Pavilion
END:VEVENT
BEGIN:VEVENT
DTSTART;VALUE=DATE:20240824
DTEND;VALUE=DATE:20240825
DTSTAMP:20260420T105651
CREATED:20240702T064959Z
LAST-MODIFIED:20240702T064959Z
UID:15796-1724457600-1724543999@mayhemmusicmagazine.com
SUMMARY:Lainey Wilson / Jackson Dean / Zach Top - Toyota Pavilion - Concord
DESCRIPTION:Share This PageFacebookTwitterPinterestTumblrLinkedinEmailShare This PageFacebookTwitterPinterestTumblrLinkedinEmail
URL:https://mayhemmusicmagazine.com/event/lainey-wilson-jackson-dean-zach-top-toyota-pavilion-concord/
LOCATION:Toyota Pavilion
END:VEVENT
BEGIN:VEVENT
DTSTART;VALUE=DATE:20240827
DTEND;VALUE=DATE:20240828
DTSTAMP:20260420T105651
CREATED:20240216T001259Z
LAST-MODIFIED:20240216T001259Z
UID:15243-1724716800-1724803199@mayhemmusicmagazine.com
SUMMARY:Santana / Counting Crows - Shoreline Amphitheatre - Mountain View
DESCRIPTION:Share This PageFacebookTwitterPinterestTumblrLinkedinEmailShare This PageFacebookTwitterPinterestTumblrLinkedinEmail
URL:https://mayhemmusicmagazine.com/event/santana-counting-crows-shoreline-amphitheatre-mountain-view/
LOCATION:Shoreline Amphitheatre\, Mountain View\, United States
END:VEVENT
END:VCALENDAR