BEGIN:VCALENDAR
VERSION:2.0
PRODID:-//Mayhem Music Magazine - ECPv6.15.18//NONSGML v1.0//EN
CALSCALE:GREGORIAN
METHOD:PUBLISH
X-WR-CALNAME:Mayhem Music Magazine
X-ORIGINAL-URL:https://mayhemmusicmagazine.com
X-WR-CALDESC:Events for Mayhem Music Magazine
REFRESH-INTERVAL;VALUE=DURATION:PT1H
X-Robots-Tag:noindex
X-PUBLISHED-TTL:PT1H
BEGIN:VTIMEZONE
TZID:America/Los_Angeles
BEGIN:DAYLIGHT
TZOFFSETFROM:-0800
TZOFFSETTO:-0700
TZNAME:PDT
DTSTART:20230312T100000
END:DAYLIGHT
BEGIN:STANDARD
TZOFFSETFROM:-0700
TZOFFSETTO:-0800
TZNAME:PST
DTSTART:20231105T090000
END:STANDARD
BEGIN:DAYLIGHT
TZOFFSETFROM:-0800
TZOFFSETTO:-0700
TZNAME:PDT
DTSTART:20240310T100000
END:DAYLIGHT
BEGIN:STANDARD
TZOFFSETFROM:-0700
TZOFFSETTO:-0800
TZNAME:PST
DTSTART:20241103T090000
END:STANDARD
BEGIN:DAYLIGHT
TZOFFSETFROM:-0800
TZOFFSETTO:-0700
TZNAME:PDT
DTSTART:20250309T100000
END:DAYLIGHT
BEGIN:STANDARD
TZOFFSETFROM:-0700
TZOFFSETTO:-0800
TZNAME:PST
DTSTART:20251102T090000
END:STANDARD
END:VTIMEZONE
BEGIN:VEVENT
DTSTART;VALUE=DATE:20240901
DTEND;VALUE=DATE:20240902
DTSTAMP:20260420T091839
CREATED:20240529T220903Z
LAST-MODIFIED:20240529T220903Z
UID:15633-1725148800-1725235199@mayhemmusicmagazine.com
SUMMARY:Creed - Toyota Amphitheatre - Wheatland
DESCRIPTION:Share This PageFacebookTwitterPinterestTumblrLinkedinEmailShare This PageFacebookTwitterPinterestTumblrLinkedinEmail
URL:https://mayhemmusicmagazine.com/event/creed-toyota-amphitheatre-wheatland/
LOCATION:TN
END:VEVENT
BEGIN:VEVENT
DTSTART;VALUE=DATE:20240903
DTEND;VALUE=DATE:20240904
DTSTAMP:20260420T091839
CREATED:20240311T231151Z
LAST-MODIFIED:20240311T231549Z
UID:15416-1725321600-1725407999@mayhemmusicmagazine.com
SUMMARY:Jelly Roll - SAP Center - San Jose
DESCRIPTION:Share This PageFacebookTwitterPinterestTumblrLinkedinEmailShare This PageFacebookTwitterPinterestTumblrLinkedinEmail
URL:https://mayhemmusicmagazine.com/event/jelly-roll-sap-center-san-jose/
LOCATION:Golden 1 Center\, Sacramento
END:VEVENT
BEGIN:VEVENT
DTSTART;VALUE=DATE:20240903
DTEND;VALUE=DATE:20240904
DTSTAMP:20260420T091839
CREATED:20240311T231451Z
LAST-MODIFIED:20240311T231451Z
UID:15420-1725321600-1725407999@mayhemmusicmagazine.com
SUMMARY:Five Finger Death Punch/Marilyn Manson - Shoreline Amphitheatre - Mountain View
DESCRIPTION:Share This PageFacebookTwitterPinterestTumblrLinkedinEmailShare This PageFacebookTwitterPinterestTumblrLinkedinEmail
URL:https://mayhemmusicmagazine.com/event/five-finger-death-punch-marilyn-manson-shoreline-amphitheatre-mountain-view/
LOCATION:Shoreline Amphitheatre\, Mountain View\, United States
END:VEVENT
BEGIN:VEVENT
DTSTART;VALUE=DATE:20240904
DTEND;VALUE=DATE:20240905
DTSTAMP:20260420T091839
CREATED:20240311T231302Z
LAST-MODIFIED:20240311T231302Z
UID:15418-1725408000-1725494399@mayhemmusicmagazine.com
SUMMARY:Jelly Roll - Golden 1Center - Sacramento
DESCRIPTION:Share This PageFacebookTwitterPinterestTumblrLinkedinEmailShare This PageFacebookTwitterPinterestTumblrLinkedinEmail
URL:https://mayhemmusicmagazine.com/event/jelly-roll-golden-1center-sacramento/
LOCATION:TN
END:VEVENT
BEGIN:VEVENT
DTSTART;VALUE=DATE:20240904
DTEND;VALUE=DATE:20240905
DTSTAMP:20260420T091839
CREATED:20240702T065140Z
LAST-MODIFIED:20240702T065140Z
UID:15798-1725408000-1725494399@mayhemmusicmagazine.com
SUMMARY:Thirty Seconds To Mars / Poppy / AFI - Shoreline Amphitheatre -Mountain View
DESCRIPTION:Share This PageFacebookTwitterPinterestTumblrLinkedinEmailShare This PageFacebookTwitterPinterestTumblrLinkedinEmail
URL:https://mayhemmusicmagazine.com/event/thirty-seconds-to-mars-poppy-afi-shoreline-amphitheatre-mountain-view/
LOCATION:Shoreline Amphitheatre\, Mountain View\, United States
END:VEVENT
BEGIN:VEVENT
DTSTART;VALUE=DATE:20240912
DTEND;VALUE=DATE:20240913
DTSTAMP:20260420T091839
CREATED:20240216T003721Z
LAST-MODIFIED:20240216T003721Z
UID:15265-1726099200-1726185599@mayhemmusicmagazine.com
SUMMARY:Jason Aldean - The Venue at Thunder Valley - Lincoln
DESCRIPTION:Share This PageFacebookTwitterPinterestTumblrLinkedinEmailShare This PageFacebookTwitterPinterestTumblrLinkedinEmail
URL:https://mayhemmusicmagazine.com/event/jason-aldean-the-venue-at-thunder-valley-lincoln/
LOCATION:Thunder Valley Casino
END:VEVENT
BEGIN:VEVENT
DTSTART;VALUE=DATE:20240920
DTEND;VALUE=DATE:20240921
DTSTAMP:20260420T091839
CREATED:20240702T065413Z
LAST-MODIFIED:20240702T065413Z
UID:15800-1726790400-1726876799@mayhemmusicmagazine.com
SUMMARY:Green Day / The Linda Lindas / Rancid / The Smashing Pumpkins - Oracle Park - San Francisco
DESCRIPTION:Share This PageFacebookTwitterPinterestTumblrLinkedinEmailShare This PageFacebookTwitterPinterestTumblrLinkedinEmail
URL:https://mayhemmusicmagazine.com/event/green-day-the-linda-lindas-rancid-the-smashing-pumpkins-oracle-park-san-francisco/
LOCATION:Oracle Park
END:VEVENT
BEGIN:VEVENT
DTSTART;VALUE=DATE:20240927
DTEND;VALUE=DATE:20240928
DTSTAMP:20260420T091839
CREATED:20240909T195819Z
LAST-MODIFIED:20240909T195819Z
UID:16080-1727395200-1727481599@mayhemmusicmagazine.com
SUMMARY:Experience Hendrix featuring Kenny Wayne Shepherd/Zakk Wylde/Eric Johnson - The Smith Center - Las Vegas
DESCRIPTION:Share This PageFacebookTwitterPinterestTumblrLinkedinEmailShare This PageFacebookTwitterPinterestTumblrLinkedinEmail
URL:https://mayhemmusicmagazine.com/event/experience-hendrix-featuring-kenny-wayne-shepherd-zakk-wylde-eric-johnson-the-smith-center-las-vegas/
LOCATION:The Smith Center – Las Vegas
END:VEVENT
END:VCALENDAR